BEGIN:VCALENDAR
PRODID:-//eluceo/ical//2.0/EN
VERSION:2.0
CALSCALE:GREGORIAN
BEGIN:VEVENT
UID:1635bcd8beb2fde8fee140e8a3f8ef2a
DTSTAMP:20260420T025207Z
SUMMARY:An Evening with Alice Rothchild
DESCRIPTION:Ithaca Area United Jewish Community\nEvents\nhttps://iaujc.org/
 events/an-evening-with-alice-rothchild-1761509272\n\nTikkun v'Or welcomes 
 you to an evening with Alice Rothchild—physician\, author\, filmmaker\, 
 and longtime human-rights advocate—to Tikkun v’Or as part of our serie
 s on Israel and Palestine. Dr. Rothchild's week-long sojourn in Ithaca is 
 sponsored by the Dorothy Cotton Institute.\n\nDrawing on her new memoir In
 spired and Outraged: The Making of a Feminist Physician and decades of med
 ical\, activist\, and educational work\, Rothchild will share her journey 
 from her traditional Jewish roots to h...
DTSTART;TZID=America/New_York:20251117T190000
DTEND;TZID=America/New_York:20251117T203000
END:VEVENT
END:VCALENDAR
