BEGIN:VCALENDAR
PRODID:-//eluceo/ical//2.0/EN
VERSION:2.0
CALSCALE:GREGORIAN
BEGIN:VEVENT
UID:d80994eef160cfd68263e16923b92e6f
DTSTAMP:20260420T055138Z
SUMMARY:Area Congregations Together Thanksgiving Service
DESCRIPTION:Ithaca Area United Jewish Community\nEvents\nhttps://iaujc.org/
 events/area-congregations-together-thanksgiving-service\n\nThe Area Congre
 gations Together Annual Multi-FaithThanksgiving Service will be celebratin
 g FAMILIES this year. Come and celebrate with us and hear from various mem
 bers of the community\, honoring families of all sorts.\n\nLight refreshme
 nts will be served.
DTSTART;TZID=America/New_York:20251123T140000
DTEND;TZID=America/New_York:20251123T160000
END:VEVENT
END:VCALENDAR
