BEGIN:VCALENDAR
PRODID:-//eluceo/ical//2.0/EN
VERSION:2.0
CALSCALE:GREGORIAN
BEGIN:VEVENT
UID:1f5c0487a04ce265e1a7d700b40faecd
DTSTAMP:20260420T042141Z
SUMMARY:As the Story Goes
DESCRIPTION:Ithaca Area United Jewish Community\nEvents\nhttps://iaujc.org/
 events/as-the-story-goes\n\nAs the Story Goes: Funny\, Strange\, and Serio
 us Stories of Yiddishland's Jews\n\nwith Jonathan Boyarin\n\nA treasure tr
 ove of anecdotes that illuminate the lives\, humor\, and wisdom of Eastern
  European Jewish communities from the 18th and 19th centuries. ​ A bests
 eller nearly a century ago in its original Yiddish and now brought to rene
 wed life in translation by Jonathan Boyarin and Jonah Sampson Boyarin\, th
 ese stories capture the essence of a world where tradition and ingenuity i
 ntertwined. ...
DTSTART;TZID=America/New_York:20251117T190000
DTEND;TZID=America/New_York:20251117T210000
END:VEVENT
END:VCALENDAR
