BEGIN:VCALENDAR
PRODID:-//eluceo/ical//2.0/EN
VERSION:2.0
CALSCALE:GREGORIAN
BEGIN:VEVENT
UID:8ca20bcefcb5188653008715e58983e8
DTSTAMP:20260419T230203Z
SUMMARY:Chanukah at Longview
DESCRIPTION:Ithaca Area United Jewish Community\nEvents\nhttps://iaujc.org/
 events/chanukah-at-longview-1763939288\n\nChanukah at Longview (1 Bella Vi
 sta Dr.\, Ithaca)\n\nAll are welcome to join in celebrating Chanukah with 
 the elder residents of Longview. Sing a few songs\, light candles\, and sp
 in dreidels together. All ages encouraged to participate! Please contact u
 s if you can be there\, or just show up!
DTSTART;TZID=America/New_York:20251215T183000
DTEND;TZID=America/New_York:20251215T193000
END:VEVENT
END:VCALENDAR
