BEGIN:VCALENDAR
PRODID:-//eluceo/ical//2.0/EN
VERSION:2.0
CALSCALE:GREGORIAN
BEGIN:VEVENT
UID:237ddb76af493aab84364a612933e8dd
DTSTAMP:20260420T020332Z
SUMMARY:Conversation with an Israeli Peace Activist
DESCRIPTION:Ithaca Area United Jewish Community\nEvents\nhttps://iaujc.org/
 events/conversation-with-an-israeli-peace-activist\n\nREGISTER for an op
 portunity to hear from Atalya Ben-Abba\, an Israeli conscientious objec
 tor and activist\, reflecting on her journey\, this moment of escalated c
 risis and her hopes for a peaceful and just future. \n\nIn 2017\, Ataly
 a Ben-Abba refused mandatory service in the Israeli military as a 19-year-
 old conscientious objector. Atalya will share her personal journey toward
 s deciding to become a conscientious objector and then join educator T Wi
 se in conversa...
DTSTART;TZID=America/New_York:20250915T190000
DTEND;TZID=America/New_York:20250915T203000
END:VEVENT
END:VCALENDAR
