BEGIN:VCALENDAR
PRODID:-//eluceo/ical//2.0/EN
VERSION:2.0
CALSCALE:GREGORIAN
BEGIN:VEVENT
UID:48fb2558dbf1da03761a4cad62490a7e
DTSTAMP:20260420T020431Z
SUMMARY:Cornell Klezathon
DESCRIPTION:Ithaca Area United Jewish Community\nEvents\nhttps://iaujc.org/
 events/cornell-klezathon\n\nTues\, April 21 - Sun\, April 26 - Cornell Kl
 ezathon w/guest musicians Pete Rushevky\, Deborah Strauss\, & Jeff Warsc
 hauer - Various Venues – Free\n\nA week of instrumental klezmer worksho
 ps with visiting klezmer teachers Pete Rushevky\, Deborah Strauss\, & Jef
 f Warschauer. See full schedule\n\nPresented by Klezmer Ensemble at Corne
 ll University (CUKE)
DTSTART;TZID=America/New_York:20260421T000000
DTEND;TZID=America/New_York:20260426T235959
END:VEVENT
END:VCALENDAR
