BEGIN:VCALENDAR
PRODID:-//eluceo/ical//2.0/EN
VERSION:2.0
CALSCALE:GREGORIAN
BEGIN:VEVENT
UID:304215876e88b4581391a440b9acc837
DTSTAMP:20260419T233656Z
SUMMARY:Erev Rosh HaShanah
DESCRIPTION:Ithaca Area United Jewish Community\nEvents\nhttps://iaujc.org/
 events/erev-rosh-hashanah\n\nRosh HaShanah begins at night fall on Monday\
 , September 22nd.\n\nMay the New Year bring you health and happiness.
DTSTART;TZID=America/New_York:20250922T000000
DTEND;TZID=America/New_York:20250922T235959
END:VEVENT
END:VCALENDAR
