BEGIN:VCALENDAR
PRODID:-//eluceo/ical//2.0/EN
VERSION:2.0
CALSCALE:GREGORIAN
BEGIN:VEVENT
UID:141555ea7dd54b34b6acc9d8eab878c1
DTSTAMP:20260420T023153Z
SUMMARY:Erev Shavuot
DESCRIPTION:Ithaca Area United Jewish Community\nEvents\nhttps://iaujc.org/
 events/erev-shavuot\n\nCelebrating the giving of the Torah.
DTSTART;TZID=America/New_York:20260521T000000
DTEND;TZID=America/New_York:20260521T235959
END:VEVENT
END:VCALENDAR
