BEGIN:VCALENDAR
PRODID:-//eluceo/ical//2.0/EN
VERSION:2.0
CALSCALE:GREGORIAN
BEGIN:VEVENT
UID:857055f5ad6790a8fbd5f1e8b6902d63
DTSTAMP:20260420T172056Z
SUMMARY:Erev Yom Kippur
DESCRIPTION:Ithaca Area United Jewish Community\nEvents\nhttps://iaujc.org/
 events/erev-yom-kippur\n\nMay you have an easy fast!
DTSTART;TZID=America/New_York:20251001T000000
DTEND;TZID=America/New_York:20251001T235959
END:VEVENT
END:VCALENDAR
