BEGIN:VCALENDAR
PRODID:-//eluceo/ical//2.0/EN
VERSION:2.0
CALSCALE:GREGORIAN
BEGIN:VEVENT
UID:44946101ddbfd9c717d89ec23fbec852
DTSTAMP:20260419T161146Z
SUMMARY:Eugene Kontorovitch\, International Law Expert
DESCRIPTION:Ithaca Area United Jewish Community\nEvents\nhttps://iaujc.org/
 events/eugene-kontorovitch-international-law-expert-1762445104\n\nEugene K
 ontorovitch\, the American-Israeli law professor and expert in Internation
 al Law\, will be speaking at Chabad about his role in the Israeli and Jewi
 sh legal world. Lunch will be at 1 PM and Professor Kontorovich will be sp
 eaking during lunch.
DTSTART;TZID=America/New_York:20251108T130000
DTEND;TZID=America/New_York:20251108T150000
END:VEVENT
END:VCALENDAR
