BEGIN:VCALENDAR
PRODID:-//eluceo/ical//2.0/EN
VERSION:2.0
CALSCALE:GREGORIAN
BEGIN:VEVENT
UID:bbf40cb5ce022e6e66319fbbbc2c1780
DTSTAMP:20260419T142350Z
SUMMARY:Exploring Judaism
DESCRIPTION:Ithaca Area United Jewish Community\nEvents\nhttps://iaujc.org/
 events/exploring-judaism\n\nExploring Judaism\nRabbi Brommer\nWednesday ev
 enings @ 6:30 beginning February 11\, 2026\nLooking for a fun\, accepting
 \, meaningful way to learn about Judaism? We’ve got you covered. From Al
 ef to Tav and from Adam to Zelophehad\, we’ll explore the basics of Jewi
 sh holidays\, observances\, texts\, histories\, and practices. This course
  is perfect for people exploring the possibility of converting to Judaism\
 , people who feel like they want a refresher on the basics\, and people wh
 o just want to kn...
DTSTART;TZID=America/New_York:20260211T183000
DTEND;TZID=America/New_York:20260211T203000
END:VEVENT
END:VCALENDAR
