BEGIN:VCALENDAR
PRODID:-//eluceo/ical//2.0/EN
VERSION:2.0
CALSCALE:GREGORIAN
BEGIN:VEVENT
UID:f631a32c05117664c388b72759be75b7
DTSTAMP:20260419T230155Z
SUMMARY:Greatest Early 20th c. Hebrew Short Stories
DESCRIPTION:Ithaca Area United Jewish Community\nEvents\nhttps://iaujc.org/
 events/greatest-early-20th-c-hebrew-short-stories\n\nGreatest Early 20th c
 . Hebrew Short Stories (in English): Bialik\, Berkowitz\, Agnon\nRoss Bran
 n\nThursdays\, October 9\, 16\, 23\, 30 @ 7pm\n\nPrograms are free for TBE
  members. For non-members\, we encourage a sliding-scale suggested donatio
 n of $18-54 for each event attended.\nRegistration Required\nMore info\n\n
 \n 
DTSTART;TZID=America/New_York:20251009T190000
DTEND;TZID=America/New_York:20251009T210000
END:VEVENT
END:VCALENDAR
