BEGIN:VCALENDAR
PRODID:-//eluceo/ical//2.0/EN
VERSION:2.0
CALSCALE:GREGORIAN
BEGIN:VEVENT
UID:17561679da20445b87535a9e5a30a9e3
DTSTAMP:20260419T230401Z
SUMMARY:Hanukkah - First NIght
DESCRIPTION:Ithaca Area United Jewish Community\nEvents\nhttps://iaujc.org/
 events/hanukkah-first-night\n\nHanukkah! The celebration begins.
DTSTART;TZID=America/New_York:20251214T000000
DTEND;TZID=America/New_York:20251214T235959
END:VEVENT
END:VCALENDAR
