BEGIN:VCALENDAR
PRODID:-//eluceo/ical//2.0/EN
VERSION:2.0
CALSCALE:GREGORIAN
BEGIN:VEVENT
UID:d0cfcebaa96111b1d230364c2d94f40c
DTSTAMP:20260419T194607Z
SUMMARY:Ice Menorah Lighting and Party
DESCRIPTION:Ithaca Area United Jewish Community\nEvents\nhttps://iaujc.org/
 events/ice-menorah-lighting-and-party-1764214759\n\nJoin Chabad to celebra
 te the first night of Chanukah with a giant ice menorah lighting on Ho Pla
 za! The menorah lighting will take place at 5:45 followed by a party with
  donuts\, dreidels\, free menorahs and candles. We will have live music fr
 om famed Klezmer musician\, Pete Rushefsky.
DTSTART;TZID=America/New_York:20251214T174500
DTEND;TZID=America/New_York:20251214T190000
END:VEVENT
END:VCALENDAR
