BEGIN:VCALENDAR
PRODID:-//eluceo/ical//2.0/EN
VERSION:2.0
CALSCALE:GREGORIAN
BEGIN:VEVENT
UID:b621ff6c0bccabd3fb31bced353788f1
DTSTAMP:20260419T175030Z
SUMMARY:Immigrant Stories and Music for Hanukkah
DESCRIPTION:Ithaca Area United Jewish Community\nEvents\nhttps://iaujc.org/
 events/immigrant-stories-and-music-for-hanukkah-1763938578\n\nA fundraiser
  in support of people impacted by immigration detention in our region\nBas
 k in the light of the first Hanukkah candle!\nCelebrate our community's im
 migrant stories and music!\nLearn about current issues facing immigrants i
 n our region!\nA suggested donation of $15-20 per person will support peop
 le impacted by immigration detention in our region\n\nRSVP:\nhttps://tikku
 nvor.wildapricot.org/event-6443198
DTSTART;TZID=America/New_York:20251214T163000
DTEND;TZID=America/New_York:20251214T183000
END:VEVENT
END:VCALENDAR
