BEGIN:VCALENDAR
PRODID:-//eluceo/ical//2.0/EN
VERSION:2.0
CALSCALE:GREGORIAN
BEGIN:VEVENT
UID:0b521eec60fb716111b0f4819b86de72
DTSTAMP:20260420T010506Z
SUMMARY:In Rememberance of the October 7th Attacks
DESCRIPTION:Ithaca Area United Jewish Community\nEvents\nhttps://iaujc.org/
 events/in-rememberance-of-the-october-7th-attacks\n\nA solemn memorial led
  by the community
DTSTART;TZID=America/New_York:20251008T180000
DTEND;TZID=America/New_York:20251008T190000
END:VEVENT
END:VCALENDAR
