BEGIN:VCALENDAR
PRODID:-//eluceo/ical//2.0/EN
VERSION:2.0
CALSCALE:GREGORIAN
BEGIN:VEVENT
UID:0c2799cdc345df9fccad195b2c053cf5
DTSTAMP:20260420T032013Z
SUMMARY:Inside the Negotiation Room
DESCRIPTION:Ithaca Area United Jewish Community\nEvents\nhttps://iaujc.org/
 events/inside-the-negotiation-room-1761681302\n\nJoin us for a conversatio
 n with Dennis Ross\, veteran American diplomat who has negotiated with Isr
 aeli leaders and played key roles in Oslo II and the 2000 Camp David Summi
 t\, and Gadeer Kamal-Mreeh\, the first Druze woman in the Knesset.\n\nToge
 ther\, they will explore the complex dynamics shaping Israel and Gaza toda
 y\, offering analysis on potential pathways forward and the challenges fac
 ing the region.\n\nRegister Here: https://cglink.me/2ee/r2294466
DTSTART;TZID=America/New_York:20251119T193000
DTEND;TZID=America/New_York:20251119T213000
END:VEVENT
END:VCALENDAR
