BEGIN:VCALENDAR
PRODID:-//eluceo/ical//2.0/EN
VERSION:2.0
CALSCALE:GREGORIAN
BEGIN:VEVENT
UID:ab0ca85a7a8ca93c74133cf4eca1a20c
DTSTAMP:20260421T175424Z
SUMMARY:Interfaith Dinner
DESCRIPTION:Ithaca Area United Jewish Community\nEvents\nhttps://iaujc.org/
 events/interfaith-dinner\n\nGreater Lansing & Ithaca\n Interfaith Communi
 ty Dinner\nHosted by\nFirst Congregational Church\nof Ithaca - United Chur
 ch of Christ\n309 Highland Road\, Ithaca\, NY  14850\nThursday\, Septemb
 er 18th\, 6:00-8:00pm\n \n\nGreetings Friends & Neighbors!\nThe members 
 of First Congregational Church of Ithaca invite you and yours to join tog
 ether for an evening of delicious food and great conversation.\n\nPlease b
 ring a labeled dish-to-share and an open heart to meet new friends.  If 
 time or bud...
DTSTART;TZID=America/New_York:20250918T180000
DTEND;TZID=America/New_York:20250918T200000
END:VEVENT
END:VCALENDAR
