BEGIN:VCALENDAR
PRODID:-//eluceo/ical//2.0/EN
VERSION:2.0
CALSCALE:GREGORIAN
BEGIN:VEVENT
UID:a5294d1b26cab901195da7d99928db75
DTSTAMP:20260420T073737Z
SUMMARY:Interfaith Picnic
DESCRIPTION:Ithaca Area United Jewish Community\nEvents\nhttps://iaujc.org/
 events/interfaith-picnic\n\nEight years ago\, we gathered as people of fai
 th and people with faith in their community to create a safe place to nurt
 ure relationships\, celebrate diversity and dispel fear of the unfamiliar.
   This vision can grow through invitation.  Bring a friend!  Reach out
  to a group in our community that you would like to know better.  Perhaps
  someone new to our community.  You are welcome and encouraged to share 
 this invitation.
DTSTART;TZID=America/New_York:20250731T183000
DTEND;TZID=America/New_York:20250731T203000
END:VEVENT
END:VCALENDAR
