BEGIN:VCALENDAR
PRODID:-//eluceo/ical//2.0/EN
VERSION:2.0
CALSCALE:GREGORIAN
BEGIN:VEVENT
UID:08f12ecdefe5ebb156ed3861c5bb1f0b
DTSTAMP:20260420T105617Z
SUMMARY:Jewish Studio Project
DESCRIPTION:Ithaca Area United Jewish Community\nEvents\nhttps://iaujc.org/
 events/jewish-studio-project\n\nJewish Studio Project\nSusan Arnsten-Russe
 ll\nSundays\, Aug 31\, Sept 7\, 14\, 21\, Oct 5\, Nov 2\, Nov 30 @ 2pm in
  the Social Hall\n\nJoin Susan Arnsten-Russell to cultivate creativity in 
 a Jewish context using  The Jewish Studio Project’s methodology\, the 
 Jewish Studio Process (JSP). Art is not just for artists and Jewish texts
  are not just for scholars. JSP programs combine practices from the field 
 of art therapy with a reimagined approach to traditional Jewish learning t
 o help activate the...
DTSTART;TZID=America/New_York:20250831T140000
DTEND;TZID=America/New_York:20250831T160000
END:VEVENT
END:VCALENDAR
