BEGIN:VCALENDAR
PRODID:-//eluceo/ical//2.0/EN
VERSION:2.0
CALSCALE:GREGORIAN
BEGIN:VEVENT
UID:5981d8ab2e6286d88637915a1cdccf12
DTSTAMP:20260419T220919Z
SUMMARY:Jewish Studio Project 10-2
DESCRIPTION:Ithaca Area United Jewish Community\nEvents\nhttps://iaujc.org/
 events/jewish-studio-project-10-2\n\nJewish Studio Project\nSusan Arnsten-
 Russell\nSundays\, Aug 31\, Sept 7\, 14\, 21\, Oct 5\, Nov 2\, Nov 30 @ 2
 pm in the Social Hall\n\nJoin Susan Arnsten-Russell to cultivate creativit
 y in a Jewish context using  The Jewish Studio Project’s methodology\, 
 the Jewish Studio Process (JSP). Art is not just for artists and Jewish 
 texts are not just for scholars. JSP programs combine practices from the f
 ield of art therapy with a reimagined approach to traditional Jewish learn
 ing to help activate t...
DTSTART;TZID=America/New_York:20251005T140000
DTEND;TZID=America/New_York:20251005T160000
END:VEVENT
END:VCALENDAR
