BEGIN:VCALENDAR
PRODID:-//eluceo/ical//2.0/EN
VERSION:2.0
CALSCALE:GREGORIAN
BEGIN:VEVENT
UID:7afee8e09486bd7b51496d0c9fe9b925
DTSTAMP:20260419T230756Z
SUMMARY:Kristallnacht
DESCRIPTION:Ithaca Area United Jewish Community\nEvents\nhttps://iaujc.org/
 events/kristallnacht\n\nThe Night of Broken Glass
DTSTART;TZID=America/New_York:20251109T000000
DTEND;TZID=America/New_York:20251109T235959
END:VEVENT
END:VCALENDAR
