BEGIN:VCALENDAR
PRODID:-//eluceo/ical//2.0/EN
VERSION:2.0
CALSCALE:GREGORIAN
BEGIN:VEVENT
UID:909d08cc2901d8f47fa5c1c434de4232
DTSTAMP:20260419T183729Z
SUMMARY:"Like Salted Meat" Fetal Personhood in Classical Jewish Texts
DESCRIPTION:Ithaca Area United Jewish Community\nEvents\nhttps://iaujc.org/
 events/like-salted-meat-fetal-personhood-in-classical-jewish-texts-1760375
 487\n\nAmerican debates about the beginning of life typically regard life 
 as an on-off switch with the only remaining question: conception or birth?
  This lecture will explore Talmudic texts regarding the beginning of life 
 and ensoulment\, showing the Jewish law rejects this paradigm.\n\nThis is 
 a part of the Strauss Lecture Series: Contemporary Topics Through a Jewish
  Lens\n\nCo-Sponsored with the Jewish Studies Program
DTSTART;TZID=America/New_York:20251022T193000
DTEND;TZID=America/New_York:20251022T213000
END:VEVENT
END:VCALENDAR
