BEGIN:VCALENDAR
PRODID:-//eluceo/ical//2.0/EN
VERSION:2.0
CALSCALE:GREGORIAN
BEGIN:VEVENT
UID:6cd3a87582001ce60b4cd55efca24654
DTSTAMP:20260424T021828Z
SUMMARY:Listen to Your Mother
DESCRIPTION:Ithaca Area United Jewish Community\nEvents\nhttps://iaujc.org/
 events/listen-to-your-mother-1773011528\n\nLive performances on the many a
 spects of motherhood! The event will include a dozen local storytellers wh
 o will tell funny\, poignant or emotionally intense stories with the theme
  of motherhood.\n\nA Silent Auction will be included--payment by check or 
 Venmo at the event.\n\nA portion of the proceeds will be donated to No M
 ás Lágrimas (No More Tears)\, an Ithaca-based organization that gives f
 ood assistance and leads community celebrations\, organizes youth programs
 \, and provides support...
DTSTART;TZID=America/New_York:20260509T190000
DTEND;TZID=America/New_York:20260509T213000
END:VEVENT
END:VCALENDAR
