BEGIN:VCALENDAR
PRODID:-//eluceo/ical//2.0/EN
VERSION:2.0
CALSCALE:GREGORIAN
BEGIN:VEVENT
UID:1612ab81890e7c5440caa937284bf436
DTSTAMP:20260420T041339Z
SUMMARY:Lost and Found - Mishnah Bava Metzia
DESCRIPTION:Ithaca Area United Jewish Community\nEvents\nhttps://iaujc.org/
 events/lost-and-found---mishnah-bava-metzia-1764714536\n\nHow do we recove
 r or return lost items?\n\nClass will be taught in English\, and you’ll 
 build up your Hebrew vocabulary as we explore the ins and outs of how to h
 andle lost property.\n\nWe’ll explore the Mishnah and even take a look a
 t a few commentaries.\n\nregister at https://www.ithacabeitmidrash.com
DTSTART;TZID=America/New_York:20260225T110000
DTEND;TZID=America/New_York:20260225T120000
END:VEVENT
END:VCALENDAR
