BEGIN:VCALENDAR
PRODID:-//eluceo/ical//2.0/EN
VERSION:2.0
CALSCALE:GREGORIAN
BEGIN:VEVENT
UID:5a327605645ee38e9844b87669e89489
DTSTAMP:20260419T161155Z
SUMMARY:Maklohet Matters: how to disagree and remain friends
DESCRIPTION:Ithaca Area United Jewish Community\nEvents\nhttps://iaujc.org/
 events/maklohet-matters-how-to-disagree-and-remain-friends-1756326722\n\nU
 sing accessible Jewish and secular quotes and examples\, we'll have some l
 ively discussions to help when facing those hot-button topics.
DTSTART;TZID=America/New_York:20251027T183000
DTEND;TZID=America/New_York:20251027T193000
END:VEVENT
END:VCALENDAR
