BEGIN:VCALENDAR
PRODID:-//eluceo/ical//2.0/EN
VERSION:2.0
CALSCALE:GREGORIAN
BEGIN:VEVENT
UID:7444ca21e7bfa075b95b1820835dbb0d
DTSTAMP:20260419T234805Z
SUMMARY:Mar Ukva and his Wife
DESCRIPTION:Ithaca Area United Jewish Community\nEvents\nhttps://iaujc.org/
 events/mar-ukva-and-his-wife-1761572469\n\nThe Talmudic story at the cente
 r of this presentation is about Mar Ukva\, leader of the Jewish exile in B
 abylon\, in the fourth century CE\, and his wife (who appears nameless in 
 the story). Kosman explores the theological questions that the story poses
  and analyzes the point of view of the Talmudic narrator on the relationsh
 ip between the masculine and the feminine. \nRegister to attend on Zoom: h
 ttps://cornell.zoom.us/webinar/register/WN_o8jW2qKaSISYMkU0Ktof0Q
DTSTART;TZID=America/New_York:20251113T170000
DTEND;TZID=America/New_York:20251113T184500
END:VEVENT
END:VCALENDAR
