BEGIN:VCALENDAR
PRODID:-//eluceo/ical//2.0/EN
VERSION:2.0
CALSCALE:GREGORIAN
BEGIN:VEVENT
UID:cd646cc65f1817e8dd54eb3a0923194d
DTSTAMP:20260419T200527Z
SUMMARY:Mediterranean Afterlives
DESCRIPTION:Ithaca Area United Jewish Community\nEvents\nhttps://iaujc.org/
 events/mediterranean-afterlives-1759408979\n\nThis talk\, "Mediterranean A
 fterlives: Migration and Memory in Contemporary Italian Sephardi Authors\,
 " is free and open to the public. Associate Professor Dario Miccoli\, Ca
 ’ Foscari University of Venice\, will present Jewish authors from the Mi
 ddle East\, North Africa and the Eastern Mediterranean – specifically Li
 bya\, Egypt\, Tunisia and Rhodes – who emigrated to Italy in the 1950s a
 nd 1960s. Based upon the analysis of a corpus of novels\, autobiographies 
 and memoirs published over the last...
DTSTART;TZID=America/New_York:20251023T170000
DTEND;TZID=America/New_York:20251023T181500
END:VEVENT
END:VCALENDAR
