BEGIN:VCALENDAR
PRODID:-//eluceo/ical//2.0/EN
VERSION:2.0
CALSCALE:GREGORIAN
BEGIN:VEVENT
UID:2d3d0bbca4cba29a423fc91fc7da0dbc
DTSTAMP:20260420T091907Z
SUMMARY:New Television and Jewish Historiography:  The Case of Transparent
DESCRIPTION:Ithaca Area United Jewish Community\nEvents\nhttps://iaujc.org/
 events/new-television-and-jewish-historiography--the-case-of-transparent-1
 759784457\n\nHere's a description of the talk:  Amazon’s 2014 show\, Tra
 nsparent\, was groundbreaking in many ways\, not least in how richly and p
 oignantly it represented gender identity and queer dynamics.  This talk re
 visits the show to argue that in addition to its aesthetic\, cultural\, an
 d political merits as a work of new television\, the show was also a remar
 kable bit of Jewish historiography\, comparable in that sense to other Jew
 ish modes of memorialization like literature\, song\, or even...
DTSTART;TZID=America/New_York:20251013T190000
DTEND;TZID=America/New_York:20251013T210000
END:VEVENT
END:VCALENDAR
