BEGIN:VCALENDAR
PRODID:-//eluceo/ical//2.0/EN
VERSION:2.0
CALSCALE:GREGORIAN
BEGIN:VEVENT
UID:a2516d21a833fca2f0e007459cba070e
DTSTAMP:20260419T172202Z
SUMMARY:Passover - final day
DESCRIPTION:Ithaca Area United Jewish Community\nEvents\nhttps://iaujc.org/
 events/passover-final-day\n\nEnjoy a bagel\, tomorrow!
DTSTART;TZID=America/New_York:20260409T000000
DTEND;TZID=America/New_York:20260409T235959
END:VEVENT
END:VCALENDAR
