BEGIN:VCALENDAR
PRODID:-//eluceo/ical//2.0/EN
VERSION:2.0
CALSCALE:GREGORIAN
BEGIN:VEVENT
UID:9cde761293ce63f4abdaf84db0b80603
DTSTAMP:20260421T012348Z
SUMMARY:Passover - the 1st Seder
DESCRIPTION:Ithaca Area United Jewish Community\nEvents\nhttps://iaujc.org/
 events/passover-the-1st-seder\n\nHappy Passover!
DTSTART;TZID=America/New_York:20260401T000000
DTEND;TZID=America/New_York:20260401T235959
END:VEVENT
END:VCALENDAR
