BEGIN:VCALENDAR
PRODID:-//eluceo/ical//2.0/EN
VERSION:2.0
CALSCALE:GREGORIAN
BEGIN:VEVENT
UID:891886e40fb25cb4027316f6272bad04
DTSTAMP:20260421T004117Z
SUMMARY:Passover - the 2nd Seder
DESCRIPTION:Ithaca Area United Jewish Community\nEvents\nhttps://iaujc.org/
 events/passover-the-2nd-seder\n\nSecond night of Passover
DTSTART;TZID=America/New_York:20260402T000000
DTEND;TZID=America/New_York:20260402T235959
END:VEVENT
END:VCALENDAR
