BEGIN:VCALENDAR
PRODID:-//eluceo/ical//2.0/EN
VERSION:2.0
CALSCALE:GREGORIAN
BEGIN:VEVENT
UID:0f7a70384ece096d0eb215efeeb4ddaf
DTSTAMP:20260419T230004Z
SUMMARY:PJ Library Hanukkah Activities
DESCRIPTION:Ithaca Area United Jewish Community\nEvents\nhttps://iaujc.org/
 events/pj-library-hanukkah-activities\n\nIthaca Area United Jewish Communi
 ty is contributing to the Hanukkah festivties by offerng activities for yo
 ung families. Build a menorah\, roll some Hanukkah candles\, decorate a dr
 iedel!
DTSTART;TZID=America/New_York:20251207T120000
DTEND;TZID=America/New_York:20251207T150000
END:VEVENT
END:VCALENDAR
