BEGIN:VCALENDAR
PRODID:-//eluceo/ical//2.0/EN
VERSION:2.0
CALSCALE:GREGORIAN
BEGIN:VEVENT
UID:ae3707333133a1cf83d61345ff850c33
DTSTAMP:20260420T010516Z
SUMMARY:PJ Library Rosh HaShanah Celebration
DESCRIPTION:Ithaca Area United Jewish Community\nEvents\nhttps://iaujc.org/
 events/pj-library-rosh-hashanah-celebration\n\nIAUJC invites young familie
 s to celebrate the upcoming holidays\nWe will be making greeting cards\, t
 asting apples\, doing crafts and hearing stories.\nA special klezmer conce
 rt/story time will happen at 4:00 PM\n\nPJ Library families and all friend
 s and relations are invited.\nEmail for more information.
DTSTART;TZID=America/New_York:20250914T150000
DTEND;TZID=America/New_York:20250914T170000
END:VEVENT
END:VCALENDAR
