BEGIN:VCALENDAR
PRODID:-//eluceo/ical//2.0/EN
VERSION:2.0
CALSCALE:GREGORIAN
BEGIN:VEVENT
UID:ec6c26badc4ceb4229c06135db9a539c
DTSTAMP:20260420T231122Z
SUMMARY:PJ Library Tu B'Av Celebration
DESCRIPTION:Ithaca Area United Jewish Community\nEvents\nhttps://iaujc.org/
 events/pj-library-tu-bav-celebration\n\nTu b'Av is the Hebrew holiday of l
 ove that occurs on the 15th of the month of Av. Celebrate with PJ Families
  and bring your friends. We will be making greeting cards for loved ones\,
  decorating cookies and enjoying snacks.\n\nAppropriate for children 3 to 
 7. Everyone is welcome.
DTSTART;TZID=America/New_York:20250806T153000
DTEND;TZID=America/New_York:20250806T170000
END:VEVENT
END:VCALENDAR
