BEGIN:VCALENDAR
PRODID:-//eluceo/ical//2.0/EN
VERSION:2.0
CALSCALE:GREGORIAN
BEGIN:VEVENT
UID:36d9f2183d9d52516f85e992f2870618
DTSTAMP:20260419T172511Z
SUMMARY:Purim!
DESCRIPTION:Ithaca Area United Jewish Community\nEvents\nhttps://iaujc.org/
 events/purim\n\n14th of Adar! Purim.
DTSTART;TZID=America/New_York:20260303T000000
DTEND;TZID=America/New_York:20260303T235959
END:VEVENT
END:VCALENDAR
