BEGIN:VCALENDAR
PRODID:-//eluceo/ical//2.0/EN
VERSION:2.0
CALSCALE:GREGORIAN
BEGIN:VEVENT
UID:ccbce160b09ad43e10dbc03651476c4b
DTSTAMP:20260421T000743Z
SUMMARY:Rosh HaShanah 1
DESCRIPTION:Ithaca Area United Jewish Community\nEvents\nhttps://iaujc.org/
 events/rosh-hashanah-1\n\nHappy New Year 5786!
DTSTART;TZID=America/New_York:20250923T000000
DTEND;TZID=America/New_York:20250923T235959
END:VEVENT
END:VCALENDAR
