BEGIN:VCALENDAR
PRODID:-//eluceo/ical//2.0/EN
VERSION:2.0
CALSCALE:GREGORIAN
BEGIN:VEVENT
UID:e216136ab23da42f99ca475f65c6a97d
DTSTAMP:20260420T030514Z
SUMMARY:Rosh haShanah 2
DESCRIPTION:Ithaca Area United Jewish Community\nEvents\nhttps://iaujc.org/
 events/rosh-hashanah-2\n\nHappy New Year 5786!
DTSTART;TZID=America/New_York:20250924T000000
DTEND;TZID=America/New_York:20250924T235959
END:VEVENT
END:VCALENDAR
