BEGIN:VCALENDAR
PRODID:-//eluceo/ical//2.0/EN
VERSION:2.0
CALSCALE:GREGORIAN
BEGIN:VEVENT
UID:b98d4e35610fc8216c7074968218a49b
DTSTAMP:20260420T002956Z
SUMMARY:Shabbat Picnic in the Park
DESCRIPTION:Ithaca Area United Jewish Community\nEvents\nhttps://iaujc.org/
 events/shabbat-picnic-in-the-park\n\nShabbat Picnic in the Park Friday\, J
 uly 18\, 5-7 pm Stewart Park - small pavilion\n\nFor families and childre
 n of all ages (but especially young children\, ages 6 and under!)\nare in
 vited to a special Shabbat picnic. Challah\, grape juice\, and yummy veget
 arian dinner will be provided. \n\nLet's welcome Shabbat and play togethe
 r in the park! Bring your family and invite your friends! \n\nPlease RE
 GISTER so that we can plan for the food.\n\nWe'll meet up at the small pa
 vilion at Stewart Park.
DTSTART;TZID=America/New_York:20250718T170000
DTEND;TZID=America/New_York:20250718T190000
END:VEVENT
END:VCALENDAR
