BEGIN:VCALENDAR
PRODID:-//eluceo/ical//2.0/EN
VERSION:2.0
CALSCALE:GREGORIAN
BEGIN:VEVENT
UID:6d9379e2cc276c82b61a1d99d0b6cb94
DTSTAMP:20260421T145114Z
SUMMARY:Shavuot 2
DESCRIPTION:Ithaca Area United Jewish Community\nEvents\nhttps://iaujc.org/
 events/shavuot-2\n\nCelebrate Shabbat and the giving of the Torah.
DTSTART;TZID=America/New_York:20260523T000000
DTEND;TZID=America/New_York:20260523T235959
END:VEVENT
END:VCALENDAR
