BEGIN:VCALENDAR
PRODID:-//eluceo/ical//2.0/EN
VERSION:2.0
CALSCALE:GREGORIAN
BEGIN:VEVENT
UID:d97a71b7cd84f300faec169d041ae9b0
DTSTAMP:20260419T172536Z
SUMMARY:Shemini Atzeret
DESCRIPTION:Ithaca Area United Jewish Community\nEvents\nhttps://iaujc.org/
 events/shemini-atzeret\n\nThe end of Sukkot.
DTSTART;TZID=America/New_York:20251014T000000
DTEND;TZID=America/New_York:20251014T235959
END:VEVENT
END:VCALENDAR
