BEGIN:VCALENDAR
PRODID:-//eluceo/ical//2.0/EN
VERSION:2.0
CALSCALE:GREGORIAN
BEGIN:VEVENT
UID:43bd71137c73fb25fecb974c9fb6978f
DTSTAMP:20260421T180718Z
SUMMARY:Simchat Torah
DESCRIPTION:Ithaca Area United Jewish Community\nEvents\nhttps://iaujc.org/
 events/simchat-torah\n\nCelebrate the Torah!
DTSTART;TZID=America/New_York:20251015T000000
DTEND;TZID=America/New_York:20251015T235959
END:VEVENT
END:VCALENDAR
