BEGIN:VCALENDAR
PRODID:-//eluceo/ical//2.0/EN
VERSION:2.0
CALSCALE:GREGORIAN
BEGIN:VEVENT
UID:975a8aa0a1e4f10cba62539f075e9a42
DTSTAMP:20260419T222338Z
SUMMARY:Simchat Torah Concert with Leah Shoshanah
DESCRIPTION:Ithaca Area United Jewish Community\nEvents\nhttps://iaujc.org/
 events/simchat-torah-concert-with-leah-shoshanah-1757860699\n\nCongregatio
 n Tikkun v’Or invites all to join for a post-Simchat Torah service / con
 cert on Saturday\, October 18\, 7-8:30 pm with Michael Margolin and specia
 l guest Cantor Leah Shoshanah.\n\nIt will be a spirited evening of song\, 
 dance\, and Torah.\n\nTogether we’ll hold our pain\, gratitude\, and joy
 \, and build hope through music\, hakafot - (dancing with the Torah)\, and
  community.\n\nLeah Shoshanah seeks to unite the divided — both within o
 neself and within communities. Through her beautifu...
DTSTART;TZID=America/New_York:20251018T190000
DTEND;TZID=America/New_York:20251018T203000
END:VEVENT
END:VCALENDAR
