BEGIN:VCALENDAR
PRODID:-//eluceo/ical//2.0/EN
VERSION:2.0
CALSCALE:GREGORIAN
BEGIN:VEVENT
UID:5c49928c316ac65e4eaf33ebae2dadbc
DTSTAMP:20260419T225619Z
SUMMARY:Stories from the Holocaust2
DESCRIPTION:Ithaca Area United Jewish Community\nEvents\nhttps://iaujc.org/
 events/stories-from-the-holocaust2\n\nNeighbors in a Time of Fear: Stories
  and Lessons from the Holocaust\nJan Burzlaff (Cornell Holocaust Studies 
 Fellow)\nMonday April 6 (Temple Beth-El Social Hall)\, April 9 (Kendal) @
  7-8pm\n\nPrograms are free for TBE members. For non-members\, we encourag
 e a sliding-scale suggested donation of $18-54 for each event attended.\nR
 egistration Required\nMore info
DTSTART;TZID=America/New_York:20260409T190000
DTEND;TZID=America/New_York:20260409T200000
END:VEVENT
END:VCALENDAR
