BEGIN:VCALENDAR
PRODID:-//eluceo/ical//2.0/EN
VERSION:2.0
CALSCALE:GREGORIAN
BEGIN:VEVENT
UID:b853470792885f4748f76c216738935d
DTSTAMP:20260419T155632Z
SUMMARY:Sukkot 1
DESCRIPTION:Ithaca Area United Jewish Community\nEvents\nhttps://iaujc.org/
 events/sukkot-1\n\nEnjoy the holiday!
DTSTART;TZID=America/New_York:20251007T000000
DTEND;TZID=America/New_York:20251007T235959
END:VEVENT
END:VCALENDAR
