BEGIN:VCALENDAR
PRODID:-//eluceo/ical//2.0/EN
VERSION:2.0
CALSCALE:GREGORIAN
BEGIN:VEVENT
UID:2467453c2154f1a8ac42165a7ec086dc
DTSTAMP:20260419T155750Z
SUMMARY:Sukkot 2
DESCRIPTION:Ithaca Area United Jewish Community\nEvents\nhttps://iaujc.org/
 events/sukkot-2\n\nEnjoy the holiday!
DTSTART;TZID=America/New_York:20251008T000000
DTEND;TZID=America/New_York:20251008T235959
END:VEVENT
END:VCALENDAR
