BEGIN:VCALENDAR
PRODID:-//eluceo/ical//2.0/EN
VERSION:2.0
CALSCALE:GREGORIAN
BEGIN:VEVENT
UID:b2f94f03128fa626de5c551e9f1fe216
DTSTAMP:20260419T155740Z
SUMMARY:Sukkot 7
DESCRIPTION:Ithaca Area United Jewish Community\nEvents\nhttps://iaujc.org/
 events/sukkot-7\n\nEnd of Sukkot
DTSTART;TZID=America/New_York:20251013T000000
DTEND;TZID=America/New_York:20251013T235959
END:VEVENT
END:VCALENDAR
