BEGIN:VCALENDAR
PRODID:-//eluceo/ical//2.0/EN
VERSION:2.0
CALSCALE:GREGORIAN
BEGIN:VEVENT
UID:51ca2324a72a0dd64f23502dd3ca4e51
DTSTAMP:20260420T001339Z
SUMMARY:Sukkot Festival
DESCRIPTION:Ithaca Area United Jewish Community\nEvents\nhttps://iaujc.org/
 events/sukkot-festival-1757860871\n\nJoin with the community as we celebra
 te the harvest festival of Sukkot! Press your own apple cider\, make a loc
 al lulav\, enjoy a snack\, warm yourself at the bonfire\, and more! Storyt
 elling and music for all ages! All are welcome. Bring your family and frie
 nds!Registration is requested for planning purposes\, but not required! ht
 tps://tikkunvor.wildapricot.org/event-6333561 Donations always appreciated
 .
DTSTART;TZID=America/New_York:20251012T100000
DTEND;TZID=America/New_York:20251012T130000
END:VEVENT
END:VCALENDAR
