BEGIN:VCALENDAR
PRODID:-//eluceo/ical//2.0/EN
VERSION:2.0
CALSCALE:GREGORIAN
BEGIN:VEVENT
UID:708b38269f2669e81aa8109b1328d7be
DTSTAMP:20260420T104205Z
SUMMARY:TBE Erev Rosh HaShanah
DESCRIPTION:Ithaca Area United Jewish Community\nEvents\nhttps://iaujc.org/
 events/tbe-erev-rosh-hashanah\n\nAll are welcome! Non-members of Temple Be
 th El must pre-register\n\nQuestions? Call the temple office at 607-273-57
 75
DTSTART;TZID=America/New_York:20250922T193000
DTEND;TZID=America/New_York:20250922T213000
END:VEVENT
END:VCALENDAR
