BEGIN:VCALENDAR
PRODID:-//eluceo/ical//2.0/EN
VERSION:2.0
CALSCALE:GREGORIAN
BEGIN:VEVENT
UID:60c65dc89de285e03ff713e5b8f4b415
DTSTAMP:20260420T120145Z
SUMMARY:TBE Erev Yom Kippur
DESCRIPTION:Ithaca Area United Jewish Community\nEvents\nhttps://iaujc.org/
 events/tbe-erev-yom-kippur\n\nAll are welcome.  Those who are not temple 
 members must pre-register\n\nQuestions? Call the temple office at 607-273-
 5775
DTSTART;TZID=America/New_York:20251001T180000
DTEND;TZID=America/New_York:20251001T200000
END:VEVENT
END:VCALENDAR
